BEGIN:VCALENDAR
VERSION:2.0
PRODID:-//HSU Innovation Hub - ECPv6.10.0//NONSGML v1.0//EN
CALSCALE:GREGORIAN
METHOD:PUBLISH
X-ORIGINAL-URL:https://stage.hsu-innovationhub.de
X-WR-CALDESC:Veranstaltungen für HSU Innovation Hub
REFRESH-INTERVAL;VALUE=DURATION:PT1H
X-Robots-Tag:noindex
X-PUBLISHED-TTL:PT1H
BEGIN:VTIMEZONE
TZID:UTC
BEGIN:STANDARD
TZOFFSETFROM:+0000
TZOFFSETTO:+0000
TZNAME:UTC
DTSTART:20250101T000000
END:STANDARD
END:VTIMEZONE
BEGIN:VEVENT
DTSTART;TZID=UTC:20250520T180000
DTEND;TZID=UTC:20250520T210000
DTSTAMP:20260421T013056
CREATED:20250127T145205Z
LAST-MODIFIED:20250513T141600Z
UID:168-1747764000-1747774800@stage.hsu-innovationhub.de
SUMMARY:HSU Innovation Hub Meet Up #4
DESCRIPTION:Liebe Gründungsinteressierte\, GründerInnen und Startups\, \nwir laden euch herzlich zum HIH Meet Up im Digital Hub Logistics & Commerce ein! \nNutzen wir gemeinsam die Gelegenheit\, uns zu vernetzen\, spannende Gespräche zu führen und neue Ideen auszutauschen. Diesmalige Impulsevorträge:\n _ Ruben Meuth von 3D-Spark\n _ Lasse Reinpold von Qodia \nBei einem kühlen Getränk sind Gründungsinteressierte wie auch bereits gegründete Startups der HSU/Uni Bw H herzlich eingeladen\, sich auszutauschen und zu vernetzen. Wir freuen uns über bekannte und neue Gesichter! \n? 20.5.2025 \n⏰ ab 18 Uhr \n? Digital Hub Logistics & Commerce\, 4. Boden\, Am Sandtorkai 32\, 20457 HH \nBitte meldet euch bis zum 18.5.2025 an. Schreibt einfach eine kurze Mail an: gruendung@hsu-hh.de. \nWir freuen und auf euch \nHerzliche Grüße!
URL:https://stage.hsu-innovationhub.de/event/168/
LOCATION:Digital Hub Logistics & Commerce\, Am Sandorkai 32\, Am Sandtorkai 32\, Hamburg\, 20457
ORGANIZER;CN="HSU Innovation Hub":MAILTO:hi@hsu-innovationhub.de
END:VEVENT
END:VCALENDAR