BEGIN:VCALENDAR
VERSION:2.0
PRODID:-//HSU Innovation Hub - ECPv6.10.0//NONSGML v1.0//EN
CALSCALE:GREGORIAN
METHOD:PUBLISH
X-ORIGINAL-URL:https://stage.hsu-innovationhub.de
X-WR-CALDESC:Veranstaltungen für HSU Innovation Hub
REFRESH-INTERVAL;VALUE=DURATION:PT1H
X-Robots-Tag:noindex
X-PUBLISHED-TTL:PT1H
BEGIN:VTIMEZONE
TZID:UTC
BEGIN:STANDARD
TZOFFSETFROM:+0000
TZOFFSETTO:+0000
TZNAME:UTC
DTSTART:20250101T000000
END:STANDARD
END:VTIMEZONE
BEGIN:VEVENT
DTSTART;TZID=UTC:20250122T180000
DTEND;TZID=UTC:20250122T210000
DTSTAMP:20260421T062412
CREATED:20250122T152306Z
LAST-MODIFIED:20250122T152357Z
UID:147-1737568800-1737579600@stage.hsu-innovationhub.de
SUMMARY:HSU Innovation Hub New Year Meet Up
DESCRIPTION:Liebe Gründungsinteressierte\, GründerInnen und Startups\, \nwir laden euch herzlich ein\, das neue Jahr mit uns bei einem New Year Meet Up im Digital Hub Logistics & Commerce zu begrüßen! \nNutzen wir gemeinsam die Gelegenheit\, uns zu vernetzen\, spannende Gespräche zu führen und neue Ideen auszutauschen. Gleichzeitig möchten wir euch in unsere neuen Räumlichkeiten einladen\, unser Team vorstellen und euch einen Einblick in unsere Aufgaben und Visionen geben. \nBei einem kühlen Getränk sind Gründungsinteressierte wie auch bereits gegründete Startups der HSU/Uni Bw H herzlich eingeladen\, sich auszutauschen und zu vernetzen. Wir freuen uns über bekannte und neue Gesichter! \n? 22.1.2025 \n⏰ ab 18 Uhr \n? Digital Hub Logistics & Commerce\, 4. Boden\, Am Sandtorkai 32\, 20457 HH \nBitte meldet euch bis zum 20.1.2024 an. Schreibt einfach eine kurze Mail an: gruendung@hsu-hh.de. \nWir freuen uns darauf\, mit euch auf ein erfolgreiches Jahr anzustoßen! \nHerzliche Grüße!
URL:https://stage.hsu-innovationhub.de/event/hsu-innovation-hub-new-year-meet-up/
LOCATION:Digital Hub Logistics & Commerce\, Am Sandtorkai 32\, Hamburg\, 20457
ATTACH;FMTTYPE=image/png:https://stage.hsu-innovationhub.de/wp-content/uploads/2025/01/Final.png
ORGANIZER;CN="HSU Innovation Hub":MAILTO:hi@hsu-innovationhub.de
END:VEVENT
END:VCALENDAR